BEGIN:VCALENDAR
VERSION:2.0
PRODID:-//Matematická beruška - ECPv6.0.9//NONSGML v1.0//EN
CALSCALE:GREGORIAN
METHOD:PUBLISH
X-ORIGINAL-URL:https://www.matematickaberuska.cz
X-WR-CALDESC:Akce na Matematická beruška
REFRESH-INTERVAL;VALUE=DURATION:PT1H
X-Robots-Tag:noindex
X-PUBLISHED-TTL:PT1H
BEGIN:VTIMEZONE
TZID:UTC
BEGIN:STANDARD
TZOFFSETFROM:+0000
TZOFFSETTO:+0000
TZNAME:UTC
DTSTART:20180101T000000
END:STANDARD
END:VTIMEZONE
BEGIN:VEVENT
DTSTART;VALUE=DATE:20180228
DTEND;VALUE=DATE:20180301
DTSTAMP:20260421T080605
CREATED:20170901T170312Z
LAST-MODIFIED:20170901T170312Z
UID:592-1519776000-1519862399@www.matematickaberuska.cz
SUMMARY:Termín podání přihlášek
DESCRIPTION:Pozor\, ať nejsou zrovna jarní prázdniny 🙂
URL:https://www.matematickaberuska.cz/event/termin-podani-prihlasek/
END:VEVENT
END:VCALENDAR